BEGIN:VCALENDAR
VERSION:2.0
PRODID:-//Ngonoorulain Trust | Helping the Needy in Kashmir - ECPv6.15.13.1//NONSGML v1.0//EN
CALSCALE:GREGORIAN
METHOD:PUBLISH
X-WR-CALNAME:Ngonoorulain Trust | Helping the Needy in Kashmir
X-ORIGINAL-URL:https://ngonoorulaintrust.com
X-WR-CALDESC:Events for Ngonoorulain Trust | Helping the Needy in Kashmir
REFRESH-INTERVAL;VALUE=DURATION:PT1H
X-Robots-Tag:noindex
X-PUBLISHED-TTL:PT1H
BEGIN:VTIMEZONE
TZID:UTC
BEGIN:STANDARD
TZOFFSETFROM:+0000
TZOFFSETTO:+0000
TZNAME:UTC
DTSTART:20230101T000000
END:STANDARD
END:VTIMEZONE
BEGIN:VEVENT
DTSTART;TZID=UTC:20241104T080000
DTEND;TZID=UTC:20250105T170000
DTSTAMP:20260420T140957
CREATED:20241125T065725Z
LAST-MODIFIED:20260108T090632Z
UID:10630-1730707200-1736096400@ngonoorulaintrust.com
SUMMARY:Community Picnic & Clean-Up Drive
DESCRIPTION:A community picnic designed to foster unity\, relaxation\, and environmental consciousness. Alongside a fun day of games\, food\, and social activities\, the event will include a clean-up drive where participants will come together to clean up local parks or beach areas. This will not only help in creating a cleaner environment but also raise awareness about sustainable living and the importance of environmental protection.
URL:https://ngonoorulaintrust.com/event/community-picnic-clean-up-drive/
CATEGORIES:Event
ATTACH;FMTTYPE=image/jpeg:https://ngonoorulaintrust.com/wp-content/uploads/2024/11/IMG-20241121-WA0065.jpg
END:VEVENT
BEGIN:VEVENT
DTSTART;TZID=UTC:20241104T080000
DTEND;TZID=UTC:20250101T170000
DTSTAMP:20260420T140957
CREATED:20241125T065359Z
LAST-MODIFIED:20241125T065359Z
UID:10628-1730707200-1735750800@ngonoorulaintrust.com
SUMMARY:Marriage Awareness Campaign
DESCRIPTION:This event aims to raise awareness about the importance of healthy relationships\, responsible marriage\, and the legal and emotional aspects of marriage. The NGO will host a series of talks\, workshops\, and counseling sessions for engaged couples and young adults. It will also feature a special guest speaker from the legal or mental health field to discuss topics like marriage laws\, mental well-being\, and relationship advice.
URL:https://ngonoorulaintrust.com/event/marriage-awareness-campaign/
CATEGORIES:Event
ATTACH;FMTTYPE=image/jpeg:https://ngonoorulaintrust.com/wp-content/uploads/2024/11/IMG-20241121-WA0035.jpg
END:VEVENT
BEGIN:VEVENT
DTSTART;TZID=UTC:20241101T080000
DTEND;TZID=UTC:20250101T170000
DTSTAMP:20260420T140957
CREATED:20241125T070045Z
LAST-MODIFIED:20241125T070045Z
UID:10638-1730448000-1735750800@ngonoorulaintrust.com
SUMMARY:Skill Development & Empowerment Program
DESCRIPTION:his program will focus on skill development and empowering local communities\, especially women and youth\, with vocational training and educational workshops. The event will feature multiple skill-building sessions\, such as digital literacy\, entrepreneurship\, sewing\, cooking\, and other life skills. This will help community members become self-sufficient and increase their chances of employment. The event will also highlight successful local entrepreneurs to inspire participants.
URL:https://ngonoorulaintrust.com/event/skill-development-empowerment-program/
CATEGORIES:Event
ATTACH;FMTTYPE=image/jpeg:https://ngonoorulaintrust.com/wp-content/uploads/2024/11/IMG-20241121-WA0027.jpg
END:VEVENT
END:VCALENDAR